BEGIN:VCALENDAR
VERSION:2.0
PRODID:-//wp-events-plugin.com//5.99912//EN
TZID:Europe/Berlin
X-WR-TIMEZONE:Europe/Berlin
BEGIN:VEVENT
UID:0-354@niedernhall.albverein.eu
DTSTART;TZID=Europe/Berlin:20260503T133000
DTEND;TZID=Europe/Berlin:20260503T180000
DTSTAMP:20260419T070420Z
URL:https://niedernhall.albverein.eu/events/durch-die-waelder-durch-die-au
 en/
SUMMARY:„Durch die Wälder\, durch die Auen“
DESCRIPTION:In Fahrgemeinschaften fahren wir nach Michelbach am Wald. Dort 
 starten wir unsere Wanderung bei den Sportplätzen. Zunächst gehen wir le
 icht bergauf in die Weinberge und genießen einen weiten Panoramablick üb
 er die Hohenloher Ebene und die Waldenburger Berge. Entlang des Söllbachs
  und bergauf auf dem Römerweg – hier könnten Wanderstöcke nützlich s
 ein – erreichen wir den höchsten Punkt unserer Wanderung in den Waldenb
 urger Bergen. Über den Eselspfad geht es allmählich wieder zurück zum A
 usgangspunkt.\n\nStrecke ca. 10\,5 km\, ⇅ 280 hm. 3\,5 Std.\n\nEinkehr a
 b 18:00 Uhr im Gasthaus Rössle in Niedernhall.\n\nGäste sind herzlich wi
 llkommen.\n\nFührung: Adelheid und Roland Kühnle 07940 3256.
LOCATION:Niedernhall\, Criesbacherstraße 4\, Niedernhall\, 74676\, Deutsch
 land
GEO:49.29676;9.614270000000033
X-APPLE-STRUCTURED-LOCATION;VALUE=URI;X-ADDRESS=Criesbacherstraße 4\, Nied
 ernhall\, 74676\, Deutschland;X-APPLE-RADIUS=100;X-TITLE=Niedernhall:geo:4
 9.29676,9.614270000000033
END:VEVENT
BEGIN:VTIMEZONE
TZID:Europe/Berlin
X-LIC-LOCATION:Europe/Berlin
BEGIN:DAYLIGHT
DTSTART:20260329T030000
TZOFFSETFROM:+0100
TZOFFSETTO:+0200
TZNAME:CEST
END:DAYLIGHT
END:VTIMEZONE
END:VCALENDAR